BEGIN:VCALENDAR
VERSION:2.0
PRODID:-//Rosemont Market &amp; Bakery - ECPv6.15.20//NONSGML v1.0//EN
CALSCALE:GREGORIAN
METHOD:PUBLISH
X-WR-CALNAME:Rosemont Market &amp; Bakery
X-ORIGINAL-URL:https://rosemontmarket.com
X-WR-CALDESC:Events for Rosemont Market &amp; Bakery
REFRESH-INTERVAL;VALUE=DURATION:PT1H
X-Robots-Tag:noindex
X-PUBLISHED-TTL:PT1H
BEGIN:VTIMEZONE
TZID:America/New_York
BEGIN:DAYLIGHT
TZOFFSETFROM:-0500
TZOFFSETTO:-0400
TZNAME:EDT
DTSTART:20240310T070000
END:DAYLIGHT
BEGIN:STANDARD
TZOFFSETFROM:-0400
TZOFFSETTO:-0500
TZNAME:EST
DTSTART:20241103T060000
END:STANDARD
BEGIN:DAYLIGHT
TZOFFSETFROM:-0500
TZOFFSETTO:-0400
TZNAME:EDT
DTSTART:20250309T070000
END:DAYLIGHT
BEGIN:STANDARD
TZOFFSETFROM:-0400
TZOFFSETTO:-0500
TZNAME:EST
DTSTART:20251102T060000
END:STANDARD
BEGIN:DAYLIGHT
TZOFFSETFROM:-0500
TZOFFSETTO:-0400
TZNAME:EDT
DTSTART:20260308T070000
END:DAYLIGHT
BEGIN:STANDARD
TZOFFSETFROM:-0400
TZOFFSETTO:-0500
TZNAME:EST
DTSTART:20261101T060000
END:STANDARD
BEGIN:DAYLIGHT
TZOFFSETFROM:-0500
TZOFFSETTO:-0400
TZNAME:EDT
DTSTART:20270314T070000
END:DAYLIGHT
BEGIN:STANDARD
TZOFFSETFROM:-0400
TZOFFSETTO:-0500
TZNAME:EST
DTSTART:20271107T060000
END:STANDARD
END:VTIMEZONE
BEGIN:VEVENT
DTSTART;TZID=America/New_York:20251121T160000
DTEND;TZID=America/New_York:20251121T180000
DTSTAMP:20260423T142110
CREATED:20251107T195303Z
LAST-MODIFIED:20251107T195303Z
UID:16251-1763740800-1763748000@rosemontmarket.com
SUMMARY:Maine Oysters & French Bubbles
DESCRIPTION:Join us for a coastal-meets-continental tasting that captures the very best of Maine and France. \nWe’re welcoming celebrated winemaker Michele D’Aprix—the only American female winemaker working in Bordeaux—to our Cape Elizabeth market for an evening of bright\, mineral-driven sparkling wines. These French bubbles pair beautifully with the star of the Maine coastline: fresh oysters. \nTo make the moment even better\, our friends at Royal River Oyster Co. will be on site shucking oysters for free throughout the event. Yes—complimentary oysters\, poured alongside Michele’s sparkling selections. \nExpect a relaxed\, come-as-you-are tasting at our market. Learn directly from Michele about méthode traditionnelle winemaking\, explore bubbles perfect for holiday hosting\, and taste oysters that reflect the deep\, clean waters of Maine’s coast. \nWhat to expect: \n\n\nA guided French sparkling wine tasting with Michele D’Aprix \n\n\nComplimentary oysters from Royal River Oyster Co. \n25-november-events-1125 \n\n\nHoliday wine recommendations and special event-only pricing \n\n\nNo tickets or RSVP required — just stop by \n\n\nCost: Free tasting · Wine available to purchase by the bottleWho should attend: Oyster lovers\, bubble enthusiasts\, holiday hosts\, and anyone who enjoys a great market night.
URL:https://rosemontmarket.com/event/maine-oysters-french-bubbles
LOCATION:Rosemont Market & Bakery Cape Elizabeth\, 537 Shore Road\, Cape Elizabeth\, ME\, 04107
CATEGORIES:Wine Tastings
ATTACH;FMTTYPE=image/png:https://rosemontmarket.com/wp-content/uploads/2025/11/25-november-events-social-scaled.png
END:VEVENT
BEGIN:VEVENT
DTSTART;TZID=America/New_York:20251124T160000
DTEND;TZID=America/New_York:20251124T180000
DTSTAMP:20260423T142110
CREATED:20251119T173958Z
LAST-MODIFIED:20251119T173958Z
UID:16272-1764000000-1764007200@rosemontmarket.com
SUMMARY:Thanksgiving Wine Tasting & Sale
DESCRIPTION:Thanksgiving Wine Tasting & SaleJoin us for an evening of holiday-ready wines\, local flavors\, and exclusive savings. We’re bringing together three local wine distributors to pour more than 15 wines selected to complement your Thanksgiving and winter celebrations. \nThis tasting offers a first look at our holiday wine recommendations\, along with exclusive discounts and event-only pricing on many of the bottles showcased. \nTo complete the experience\, enjoy a spread of cheese and charcuterie from Roger’s Imports\, thoughtfully paired to help you discover the perfect combinations for your holiday table. \nWhether you missed the preorder window or simply want expert guidance\, our team is here to help you choose the right wines for the season.
URL:https://rosemontmarket.com/event/thanksgiving-wine-tasting-sale
LOCATION:Rosemont Market & Bakery Brighton Avenue\, 580 Brighton Avenue\, Portland\, ME\, 04102\, United States
ATTACH;FMTTYPE=image/png:https://rosemontmarket.com/wp-content/uploads/2025/11/25-thanksgiving-wine-tasting-scaled.png
END:VEVENT
BEGIN:VEVENT
DTSTART;TZID=America/New_York:20251212T160000
DTEND;TZID=America/New_York:20251212T180000
DTSTAMP:20260423T142110
CREATED:20251205T220541Z
LAST-MODIFIED:20251205T220723Z
UID:16289-1765555200-1765562400@rosemontmarket.com
SUMMARY:Shuck The Halls in Scarborough
DESCRIPTION:Shuck the Halls — Scarborough Market\nFriday\, December 12th • 4–6pmFeaturing Harbor Fish Market \nKick off holiday entertaining with a free oyster and sparkling wine tasting. Meet your local oyster farmer\, sample some of the Maine’s freshest oysters\, and explore sparkling wines perfect for parties\, gifting\, and celebrations. A lively\, delicious way to get ready for the season.
URL:https://rosemontmarket.com/event/shuck-the-halls-in-scarborough
LOCATION:Rosemont Market & Bakery Scarborough\, 246 US Route One\, Scarborough\, ME\, 04070
CATEGORIES:Wine Tastings
ATTACH;FMTTYPE=image/jpeg:https://rosemontmarket.com/wp-content/uploads/2025/12/24-RSMT-Shuck-the-Halls_IG-scaled.jpeg
END:VEVENT
BEGIN:VEVENT
DTSTART;TZID=America/New_York:20251218T160000
DTEND;TZID=America/New_York:20251218T180000
DTSTAMP:20260423T142110
CREATED:20251205T220028Z
LAST-MODIFIED:20251205T220227Z
UID:16294-1766073600-1766080800@rosemontmarket.com
SUMMARY:SoPo HoHo - Cape Elizabeth
DESCRIPTION:SoPo HoHo! — Cape Elizabeth Market\nThursday\, December 18th • 4–6pmPart of South Portland’s Annual SoPo HoHo Celebration \nCelebrate the season with a festive oyster and bubbles tasting at our Cape Elizabeth Market. Enjoy complimentary oysters\, sip sparkling wine\, and join in South Portland’s beloved holiday community event. A cheerful afternoon of great flavors and neighborhood spirit.
URL:https://rosemontmarket.com/event/sopo-hoho-cape-elizabeth
LOCATION:Rosemont Market & Bakery Cape Elizabeth\, 537 Shore Road\, Cape Elizabeth\, ME\, 04107
CATEGORIES:Wine Tastings
ATTACH;FMTTYPE=image/jpeg:https://rosemontmarket.com/wp-content/uploads/2025/12/24-RSMT-SoPoHoHo_IG-scaled.jpeg
END:VEVENT
BEGIN:VEVENT
DTSTART;TZID=America/New_York:20251219T160000
DTEND;TZID=America/New_York:20251219T180000
DTSTAMP:20260423T142110
CREATED:20251205T220553Z
LAST-MODIFIED:20251205T220553Z
UID:16301-1766160000-1766167200@rosemontmarket.com
SUMMARY:Annual Cellar Sale
DESCRIPTION:Annual Cellar Sale — Brighton Avenue Market\nFriday\, December 19th • 4–6pm \nOur biggest wine event of the year returns. Join us for exclusive access to our cellar\, with deep discounts on select bottles starting at 10%. Enjoy free tastings\, explore rare and special wines\, and sample holiday charcuterie favorites from our kitchen. A festive evening and the perfect chance to stock up for holiday hosting.
URL:https://rosemontmarket.com/event/annual-cellar-sale
LOCATION:Rosemont Market & Bakery Brighton Avenue\, 580 Brighton Avenue\, Portland\, ME\, 04102\, United States
CATEGORIES:Wine Tastings
ATTACH;FMTTYPE=image/jpeg:https://rosemontmarket.com/wp-content/uploads/2025/12/24-RSMT-AnnualCellarSale_IG-1-scaled.jpeg
END:VEVENT
BEGIN:VEVENT
DTSTART;TZID=America/New_York:20260410T160000
DTEND;TZID=America/New_York:20260410T180000
DTSTAMP:20260423T142110
CREATED:20260403T190038Z
LAST-MODIFIED:20260403T190038Z
UID:16466-1775836800-1775844000@rosemontmarket.com
SUMMARY:Tastes of Spring: Chardonnay & HayMay Cheeses
DESCRIPTION:Friday\, April 10th | 4 to 6pm | Falmouth Market \nSpring is here\, and we’re celebrating with a free tasting at Falmouth Market featuring two of our newest and most exciting additions to the cheese counter. \nHayMay Cheese is made by Kate and Zack in Farmington\, Maine. Kate brings years of craft to every wheel\, including time as a cheesemaker at Shelburne Farms\, and their cheeses are made with milk from Milkhouse Farm right here in Maine. We’re pouring alongside two HayMay wheels you need to know: \nFrolic\, a soft bloomy rind cheese with creamy\, indulgent richness and a distinctly Maine character. \nPudge\, a gently funky washed rind with savory depth and a texture that melts right into whatever you put it on. \nTo pair\, we’re opening some of our favorite Chardonnays from around the world. Crisp\, lush\, and everything in between. \nThis is a free\, drop-in event. No ticket\, no reservation. Just come hungry and ready to taste something good.
URL:https://rosemontmarket.com/event/tastes-of-spring-chardonnay-haymay-cheeses
LOCATION:Rosemont Falmouth\, 231 US Route 1\, Falmouth\, ME\, 04105\, United States
ATTACH;FMTTYPE=image/png:https://rosemontmarket.com/wp-content/uploads/2026/04/26-chardonnay-Haymay-April-0410.png
END:VEVENT
BEGIN:VEVENT
DTSTART;TZID=America/New_York:20260424T160000
DTEND;TZID=America/New_York:20260424T180000
DTSTAMP:20260423T142110
CREATED:20260407T200637Z
LAST-MODIFIED:20260407T200637Z
UID:16473-1777046400-1777053600@rosemontmarket.com
SUMMARY:Tastes of Italy: Piedmont Cheese & Wine
DESCRIPTION:Friday\, April 24 | Cape Elizabeth Market | 4-6pm \nPiedmont sits at the foothills of the Alps in northwestern Italy\, and it is one of the most remarkable food and wine regions in the world. The same hills that produce Barolo and Barbaresco also give us some of Italy’s most distinctive and delicious cheeses. This tasting brings both together. \nWe’re pouring a selection of Piedmontese wines alongside two wheels from Caseificio Rabbia\, a small producer near Cuneo dedicated to preserving the traditional cheeses of the region. Blu di Cuneo is a remarkably creamy\, approachable blue\, rich with cultured cream and a whisper of brine\, and a gold medal winner at the 2024 Piedmontese Cheese Festival. Primo Pascolo is a raw cow’s milk spring cheese with a doughy\, springy texture and a flavor that moves from fresh and vegetal to hints of buttered popcorn and clover honey. Together they tell the story of a place. \nWe’ll be pouring Nebbiolo\, Barbera\, and Barolo alongside the cheese\, each one a classic of the region and a natural companion to what’s on the board. Same hills\, same values\, one great tasting table. \nFree\, drop-in\, no ticket needed. More details on timing to come.
URL:https://rosemontmarket.com/event/tastes-of-italy-piedmont-cheese-wine
LOCATION:Rosemont Market & Bakery Cape Elizabeth\, 537 Shore Road\, Cape Elizabeth\, ME\, 04107
CATEGORIES:Wine Tastings
ATTACH;FMTTYPE=image/png:https://rosemontmarket.com/wp-content/uploads/2026/04/26-Piedmonte-wines-April.png
END:VEVENT
BEGIN:VEVENT
DTSTART;TZID=America/New_York:20260430T160000
DTEND;TZID=America/New_York:20260430T180000
DTSTAMP:20260423T142110
CREATED:20260422T141755Z
LAST-MODIFIED:20260422T142025Z
UID:16484-1777564800-1777572000@rosemontmarket.com
SUMMARY:Tastes of Sonoma County: Dry Creek Vineyard
DESCRIPTION:Thu\, Apr 30 | 4–6pm | Scarborough Market \nSonoma County is coming to us. Established in 1972\, Dry Creek Vineyard is the Dry Creek Valley’s flagship winery Wine Road and one of California’s great family wineries. Now 100% certified sustainable\, the winery produces a portfolio that includes Dry Chenin Blanc\, Sauvignon Blanc\, Zinfandel\, Cabernet Sauvignon\, and Meritage blends\, as well as single-vineyard selections. Stop in and taste what makes this corner of Sonoma so special. Free\, no ticket needed.
URL:https://rosemontmarket.com/event/tastes-of-sonoma-county-dry-creek-vineyard
LOCATION:Rosemont Market & Bakery Scarborough\, 246 US Route One\, Scarborough\, ME\, 04070
CATEGORIES:Wine Tastings
ATTACH;FMTTYPE=image/png:https://rosemontmarket.com/wp-content/uploads/2026/04/26-Dry-Creek-April-1.png
END:VEVENT
BEGIN:VEVENT
DTSTART;TZID=America/New_York:20260501T160000
DTEND;TZID=America/New_York:20260501T180000
DTSTAMP:20260423T142110
CREATED:20260422T142851Z
LAST-MODIFIED:20260422T142851Z
UID:16497-1777651200-1777658400@rosemontmarket.com
SUMMARY:Tastes of Loire: Meet Winemaker Julie Biet
DESCRIPTION:Fri\, May 1 | 4–6pm | Brighton Ave. Market \nJulie Biet makes Touraine appellation wines from a family estate covering around 36 hectares in Seigy\, in the Loire Valley\, on the left bank of the Cher river. The vines are rather old for the region at around 60 years\, planted on hillsides in clay-limestone soil\, and the estate is certified Terra Vitis and Haute Valeur Environnementale. Now the fourth generation winemaker\, Julie is making the trip to Portland to pour her wines in person. Free\, no ticket needed.
URL:https://rosemontmarket.com/event/tastes-of-loire-meet-winemaker-julie-biet
LOCATION:Rosemont Market & Bakery Brighton Avenue\, 580 Brighton Avenue\, Portland\, ME\, 04102\, United States
ATTACH;FMTTYPE=image/png:https://rosemontmarket.com/wp-content/uploads/2026/04/26-Biet-April-1.png
END:VEVENT
BEGIN:VEVENT
DTSTART;TZID=America/New_York:20260508T160000
DTEND;TZID=America/New_York:20260508T180000
DTSTAMP:20260423T142110
CREATED:20260422T143008Z
LAST-MODIFIED:20260422T143008Z
UID:16499-1778256000-1778263200@rosemontmarket.com
SUMMARY:Meet Importer Michael Corso
DESCRIPTION:Fri\, May 8 | 4–6pm | Scarborough Market \nA New York importer with over 40 years in the wine trade\, Michael Corso Selections seeks out small\, family-run French producers making honest\, terroir-driven wines built for the table. He travels regularly through France looking for growers whose wines reflect where they come from\, and works predominantly with vignerons who farm with care and pass their land on to the next generation. Come meet him and taste through the portfolio. Free\, no ticket needed.
URL:https://rosemontmarket.com/event/meet-importer-michael-corso
LOCATION:Rosemont Market & Bakery Scarborough\, 246 US Route One\, Scarborough\, ME\, 04070
CATEGORIES:Wine Tastings
ATTACH;FMTTYPE=image/png:https://rosemontmarket.com/wp-content/uploads/2026/04/26-michael-corso-May-1.png
END:VEVENT
BEGIN:VEVENT
DTSTART;TZID=America/New_York:20260515T160000
DTEND;TZID=America/New_York:20260515T180000
DTSTAMP:20260423T142110
CREATED:20260422T143148Z
LAST-MODIFIED:20260422T143148Z
UID:16501-1778860800-1778868000@rosemontmarket.com
SUMMARY:Tastes of Italy: Meet the Winemaker from Fattoria Moretto
DESCRIPTION:Fri\, May 15 | 4–6pm | Falmouth Market \nFounded in 1971\, Fattoria Moretto is a small\, family-run estate that has been producing Lambrusco Grasparossa di Castelvetro for three generations in the hills of Emilia-Romagna\, near Modena. Produced from organically farmed hillside vineyards\, their Grasparossa is made for the rich cuisine of the region — bone-dry\, frothy\, and built for the table. If you think you don’t like Lambrusco\, this is the one that will change your mind. Free\, no ticket needed.
URL:https://rosemontmarket.com/event/tastes-of-italy-meet-the-winemaker-from-fattoria-moretto
LOCATION:Rosemont Falmouth\, 231 US Route 1\, Falmouth\, ME\, 04105\, United States
CATEGORIES:Wine Tastings
ATTACH;FMTTYPE=image/png:https://rosemontmarket.com/wp-content/uploads/2026/04/26-fattoria-moretto-may-1.png
END:VEVENT
BEGIN:VEVENT
DTSTART;TZID=America/New_York:20260529T160000
DTEND;TZID=America/New_York:20260529T180000
DTSTAMP:20260423T142110
CREATED:20260422T143406Z
LAST-MODIFIED:20260422T143406Z
UID:16503-1780070400-1780077600@rosemontmarket.com
SUMMARY:Kermit Lynch Spring Showcase
DESCRIPTION:Fri\, May 29 | 4–6pm | Falmouth Market \nIn 1972\, with a $5\,000 loan\, Kermit Lynch opened his eponymous wine shop and went on to become one of the most influential importers of French and Italian wine in the country\, winning two James Beard awards and receiving France’s Legion d’Honneur. We carry a wide selection of the Kermit Lynch portfolio\, and this spring we’re pouring over 15 of them — new favorites and classics we can’t get enough of. Come taste through the lineup with us. Free\, no ticket needed.
URL:https://rosemontmarket.com/event/kermit-lynch-spring-showcase
LOCATION:Rosemont Falmouth\, 231 US Route 1\, Falmouth\, ME\, 04105\, United States
CATEGORIES:Wine Tastings
ATTACH;FMTTYPE=image/png:https://rosemontmarket.com/wp-content/uploads/2026/04/26-fattoria-moretto-may-–-1-1.png
END:VEVENT
END:VCALENDAR