BEGIN:VCALENDAR
VERSION:2.0
PRODID:-//Rosemont Market &amp; Bakery - ECPv6.15.20//NONSGML v1.0//EN
CALSCALE:GREGORIAN
METHOD:PUBLISH
X-WR-CALNAME:Rosemont Market &amp; Bakery
X-ORIGINAL-URL:https://rosemontmarket.com
X-WR-CALDESC:Events for Rosemont Market &amp; Bakery
REFRESH-INTERVAL;VALUE=DURATION:PT1H
X-Robots-Tag:noindex
X-PUBLISHED-TTL:PT1H
BEGIN:VTIMEZONE
TZID:America/New_York
BEGIN:DAYLIGHT
TZOFFSETFROM:-0500
TZOFFSETTO:-0400
TZNAME:EDT
DTSTART:20250309T070000
END:DAYLIGHT
BEGIN:STANDARD
TZOFFSETFROM:-0400
TZOFFSETTO:-0500
TZNAME:EST
DTSTART:20251102T060000
END:STANDARD
BEGIN:DAYLIGHT
TZOFFSETFROM:-0500
TZOFFSETTO:-0400
TZNAME:EDT
DTSTART:20260308T070000
END:DAYLIGHT
BEGIN:STANDARD
TZOFFSETFROM:-0400
TZOFFSETTO:-0500
TZNAME:EST
DTSTART:20261101T060000
END:STANDARD
BEGIN:DAYLIGHT
TZOFFSETFROM:-0500
TZOFFSETTO:-0400
TZNAME:EDT
DTSTART:20270314T070000
END:DAYLIGHT
BEGIN:STANDARD
TZOFFSETFROM:-0400
TZOFFSETTO:-0500
TZNAME:EST
DTSTART:20271107T060000
END:STANDARD
END:VTIMEZONE
BEGIN:VEVENT
DTSTART;TZID=America/New_York:20260529T160000
DTEND;TZID=America/New_York:20260529T180000
DTSTAMP:20260423T135336
CREATED:20260422T143406Z
LAST-MODIFIED:20260422T143406Z
UID:16503-1780070400-1780077600@rosemontmarket.com
SUMMARY:Kermit Lynch Spring Showcase
DESCRIPTION:Fri\, May 29 | 4–6pm | Falmouth Market \nIn 1972\, with a $5\,000 loan\, Kermit Lynch opened his eponymous wine shop and went on to become one of the most influential importers of French and Italian wine in the country\, winning two James Beard awards and receiving France’s Legion d’Honneur. We carry a wide selection of the Kermit Lynch portfolio\, and this spring we’re pouring over 15 of them — new favorites and classics we can’t get enough of. Come taste through the lineup with us. Free\, no ticket needed.
URL:https://rosemontmarket.com/event/kermit-lynch-spring-showcase
LOCATION:Rosemont Falmouth\, 231 US Route 1\, Falmouth\, ME\, 04105\, United States
CATEGORIES:Wine Tastings
ATTACH;FMTTYPE=image/png:https://rosemontmarket.com/wp-content/uploads/2026/04/26-fattoria-moretto-may-–-1-1.png
END:VEVENT
END:VCALENDAR