BEGIN:VCALENDAR
VERSION:2.0
PRODID:-//Rosemont Market &amp; Bakery - ECPv6.15.20//NONSGML v1.0//EN
CALSCALE:GREGORIAN
METHOD:PUBLISH
X-WR-CALNAME:Rosemont Market &amp; Bakery
X-ORIGINAL-URL:https://rosemontmarket.com
X-WR-CALDESC:Events for Rosemont Market &amp; Bakery
REFRESH-INTERVAL;VALUE=DURATION:PT1H
X-Robots-Tag:noindex
X-PUBLISHED-TTL:PT1H
BEGIN:VTIMEZONE
TZID:America/New_York
BEGIN:DAYLIGHT
TZOFFSETFROM:-0500
TZOFFSETTO:-0400
TZNAME:EDT
DTSTART:20250309T070000
END:DAYLIGHT
BEGIN:STANDARD
TZOFFSETFROM:-0400
TZOFFSETTO:-0500
TZNAME:EST
DTSTART:20251102T060000
END:STANDARD
BEGIN:DAYLIGHT
TZOFFSETFROM:-0500
TZOFFSETTO:-0400
TZNAME:EDT
DTSTART:20260308T070000
END:DAYLIGHT
BEGIN:STANDARD
TZOFFSETFROM:-0400
TZOFFSETTO:-0500
TZNAME:EST
DTSTART:20261101T060000
END:STANDARD
BEGIN:DAYLIGHT
TZOFFSETFROM:-0500
TZOFFSETTO:-0400
TZNAME:EDT
DTSTART:20270314T070000
END:DAYLIGHT
BEGIN:STANDARD
TZOFFSETFROM:-0400
TZOFFSETTO:-0500
TZNAME:EST
DTSTART:20271107T060000
END:STANDARD
END:VTIMEZONE
BEGIN:VEVENT
DTSTART;TZID=America/New_York:20260501T160000
DTEND;TZID=America/New_York:20260501T180000
DTSTAMP:20260422T225437
CREATED:20260422T142851Z
LAST-MODIFIED:20260422T142851Z
UID:16497-1777651200-1777658400@rosemontmarket.com
SUMMARY:Tastes of Loire: Meet Winemaker Julie Biet
DESCRIPTION:Fri\, May 1 | 4–6pm | Brighton Ave. Market \nJulie Biet makes Touraine appellation wines from a family estate covering around 36 hectares in Seigy\, in the Loire Valley\, on the left bank of the Cher river. The vines are rather old for the region at around 60 years\, planted on hillsides in clay-limestone soil\, and the estate is certified Terra Vitis and Haute Valeur Environnementale. Now the fourth generation winemaker\, Julie is making the trip to Portland to pour her wines in person. Free\, no ticket needed.
URL:https://rosemontmarket.com/event/tastes-of-loire-meet-winemaker-julie-biet
LOCATION:Rosemont Market & Bakery Brighton Avenue\, 580 Brighton Avenue\, Portland\, ME\, 04102\, United States
ATTACH;FMTTYPE=image/png:https://rosemontmarket.com/wp-content/uploads/2026/04/26-Biet-April-1.png
END:VEVENT
END:VCALENDAR