BEGIN:VCALENDAR
VERSION:2.0
PRODID:-//Rosemont Market &amp; Bakery - ECPv6.15.20//NONSGML v1.0//EN
CALSCALE:GREGORIAN
METHOD:PUBLISH
X-WR-CALNAME:Rosemont Market &amp; Bakery
X-ORIGINAL-URL:https://rosemontmarket.com
X-WR-CALDESC:Events for Rosemont Market &amp; Bakery
REFRESH-INTERVAL;VALUE=DURATION:PT1H
X-Robots-Tag:noindex
X-PUBLISHED-TTL:PT1H
BEGIN:VTIMEZONE
TZID:UTC
BEGIN:STANDARD
TZOFFSETFROM:+0000
TZOFFSETTO:+0000
TZNAME:UTC
DTSTART:20230101T000000
END:STANDARD
END:VTIMEZONE
BEGIN:VEVENT
DTSTART;TZID=UTC:20240824T130000
DTEND;TZID=UTC:20240824T150000
DTSTAMP:20260418T184019
CREATED:20240809T221330Z
LAST-MODIFIED:20240809T221355Z
UID:12413-1724504400-1724511600@rosemontmarket.com
SUMMARY:2nd Annual Paella Party
DESCRIPTION:Saturday\, August 24th\n1pm to 3pm\nRosemont Brighton Ave \nWatch Chef Carter from Colvard Sausage Co. make paella on our massive paella pans using local ingredients from Harbor Fish Market & Rosemont Market. \nPLUS:\n\nFree Wine Tasting with NEW Spanish Wines. \nIce Cream from Parlor Ice Cream.\n& more!
URL:https://rosemontmarket.com/event/2nd-annual-paella-party
LOCATION:Rosemont Market & Bakery Brighton Avenue\, 580 Brighton Avenue\, Portland\, ME\, 04102\, United States
ATTACH;FMTTYPE=image/jpeg:https://rosemontmarket.com/wp-content/uploads/2024/08/24-RSMT-0157-paella-event_SOCIAL-0804.jpg
END:VEVENT
BEGIN:VEVENT
DTSTART;TZID=UTC:20240719T160000
DTEND;TZID=UTC:20240719T180000
DTSTAMP:20260418T184019
CREATED:20240712T212940Z
LAST-MODIFIED:20240712T212940Z
UID:12356-1721404800-1721412000@rosemontmarket.com
SUMMARY:Wine Tasting with Lisa Strausser from Kermit Lynch Wine Merchant
DESCRIPTION:Join us for a special event featuring Lisa Strausser\, the New England Sales Manager for Kermit Lynch Wine Merchant. Lisa will share her expertise on some of the finest French and Italian wines. Enjoy complimentary tastings and delicious Rosemont-made snacks. This is a fantastic opportunity to expand your wine knowledge and indulge in some exquisite flavors. \nDate: Friday\, July 19th\nTime: 4 PM to 6 PM\nLocation: Brighton Avenue Market \nDon’t miss this chance to learn from a wine expert and savor some of the best wines and snacks!
URL:https://rosemontmarket.com/event/wine-tasting-with-lisa-strausser-from-kermit-lynch-wine-merchant
LOCATION:Rosemont Market & Bakery Brighton Avenue\, 580 Brighton Avenue\, Portland\, ME\, 04102\, United States
CATEGORIES:Wine Tastings
ATTACH;FMTTYPE=image/jpeg:https://rosemontmarket.com/wp-content/uploads/2024/07/24-RSMT-0151-Kermit-Lynch-Event-SOCIAL-0701.jpg
END:VEVENT
END:VCALENDAR