BEGIN:VCALENDAR
VERSION:2.0
PRODID:-//Rosemont Market &amp; Bakery - ECPv6.15.20//NONSGML v1.0//EN
CALSCALE:GREGORIAN
METHOD:PUBLISH
X-ORIGINAL-URL:https://rosemontmarket.com
X-WR-CALDESC:Events for Rosemont Market &amp; Bakery
REFRESH-INTERVAL;VALUE=DURATION:PT1H
X-Robots-Tag:noindex
X-PUBLISHED-TTL:PT1H
BEGIN:VTIMEZONE
TZID:America/New_York
BEGIN:DAYLIGHT
TZOFFSETFROM:-0500
TZOFFSETTO:-0400
TZNAME:EDT
DTSTART:20240310T070000
END:DAYLIGHT
BEGIN:STANDARD
TZOFFSETFROM:-0400
TZOFFSETTO:-0500
TZNAME:EST
DTSTART:20241103T060000
END:STANDARD
BEGIN:DAYLIGHT
TZOFFSETFROM:-0500
TZOFFSETTO:-0400
TZNAME:EDT
DTSTART:20250309T070000
END:DAYLIGHT
BEGIN:STANDARD
TZOFFSETFROM:-0400
TZOFFSETTO:-0500
TZNAME:EST
DTSTART:20251102T060000
END:STANDARD
BEGIN:DAYLIGHT
TZOFFSETFROM:-0500
TZOFFSETTO:-0400
TZNAME:EDT
DTSTART:20260308T070000
END:DAYLIGHT
BEGIN:STANDARD
TZOFFSETFROM:-0400
TZOFFSETTO:-0500
TZNAME:EST
DTSTART:20261101T060000
END:STANDARD
END:VTIMEZONE
BEGIN:VTIMEZONE
TZID:UTC
BEGIN:STANDARD
TZOFFSETFROM:+0000
TZOFFSETTO:+0000
TZNAME:UTC
DTSTART:20210101T000000
END:STANDARD
END:VTIMEZONE
BEGIN:VEVENT
DTSTART;TZID=America/New_York:20251218T160000
DTEND;TZID=America/New_York:20251218T180000
DTSTAMP:20260418T132253
CREATED:20251205T220028Z
LAST-MODIFIED:20251205T220227Z
UID:16294-1766073600-1766080800@rosemontmarket.com
SUMMARY:SoPo HoHo - Cape Elizabeth
DESCRIPTION:SoPo HoHo! — Cape Elizabeth Market\nThursday\, December 18th • 4–6pmPart of South Portland’s Annual SoPo HoHo Celebration \nCelebrate the season with a festive oyster and bubbles tasting at our Cape Elizabeth Market. Enjoy complimentary oysters\, sip sparkling wine\, and join in South Portland’s beloved holiday community event. A cheerful afternoon of great flavors and neighborhood spirit.
URL:https://rosemontmarket.com/event/sopo-hoho-cape-elizabeth
LOCATION:Rosemont Market & Bakery Cape Elizabeth\, 537 Shore Road\, Cape Elizabeth\, ME\, 04107
CATEGORIES:Wine Tastings
ATTACH;FMTTYPE=image/jpeg:https://rosemontmarket.com/wp-content/uploads/2025/12/24-RSMT-SoPoHoHo_IG-scaled.jpeg
END:VEVENT
BEGIN:VEVENT
DTSTART;TZID=America/New_York:20251121T160000
DTEND;TZID=America/New_York:20251121T180000
DTSTAMP:20260418T132253
CREATED:20251107T195303Z
LAST-MODIFIED:20251107T195303Z
UID:16251-1763740800-1763748000@rosemontmarket.com
SUMMARY:Maine Oysters & French Bubbles
DESCRIPTION:Join us for a coastal-meets-continental tasting that captures the very best of Maine and France. \nWe’re welcoming celebrated winemaker Michele D’Aprix—the only American female winemaker working in Bordeaux—to our Cape Elizabeth market for an evening of bright\, mineral-driven sparkling wines. These French bubbles pair beautifully with the star of the Maine coastline: fresh oysters. \nTo make the moment even better\, our friends at Royal River Oyster Co. will be on site shucking oysters for free throughout the event. Yes—complimentary oysters\, poured alongside Michele’s sparkling selections. \nExpect a relaxed\, come-as-you-are tasting at our market. Learn directly from Michele about méthode traditionnelle winemaking\, explore bubbles perfect for holiday hosting\, and taste oysters that reflect the deep\, clean waters of Maine’s coast. \nWhat to expect: \n\n\nA guided French sparkling wine tasting with Michele D’Aprix \n\n\nComplimentary oysters from Royal River Oyster Co. \n25-november-events-1125 \n\n\nHoliday wine recommendations and special event-only pricing \n\n\nNo tickets or RSVP required — just stop by \n\n\nCost: Free tasting · Wine available to purchase by the bottleWho should attend: Oyster lovers\, bubble enthusiasts\, holiday hosts\, and anyone who enjoys a great market night.
URL:https://rosemontmarket.com/event/maine-oysters-french-bubbles
LOCATION:Rosemont Market & Bakery Cape Elizabeth\, 537 Shore Road\, Cape Elizabeth\, ME\, 04107
CATEGORIES:Wine Tastings
ATTACH;FMTTYPE=image/png:https://rosemontmarket.com/wp-content/uploads/2025/11/25-november-events-social-scaled.png
END:VEVENT
BEGIN:VEVENT
DTSTART;TZID=UTC:20250808T160000
DTEND;TZID=UTC:20250808T180000
DTSTAMP:20260418T132253
CREATED:20250806T191358Z
LAST-MODIFIED:20250806T191358Z
UID:13317-1754668800-1754676000@rosemontmarket.com
SUMMARY:Sancerre & Goat Cheese Tasting
DESCRIPTION:Join us for a delicious summer pairing at our Cape Elizabeth Market! We’re pouring Sancerre—a bright\, crisp French wine—alongside creamy\, local goat cheese from Saco River Goat Farm. This tasting is free to attend and a perfect way to unwind before the weekend. Stop by\, sip\, and snack with us!
URL:https://rosemontmarket.com/event/sancerre-goat-cheese-tasting
LOCATION:Rosemont Market & Bakery Cape Elizabeth\, 537 Shore Road\, Cape Elizabeth\, ME\, 04107
ATTACH;FMTTYPE=image/jpeg:https://rosemontmarket.com/wp-content/uploads/2025/08/25-RSMT-0116-May-Events_social.jpg
END:VEVENT
BEGIN:VEVENT
DTSTART;TZID=UTC:20250718T160000
DTEND;TZID=UTC:20250718T180000
DTSTAMP:20260418T132253
CREATED:20250623T221858Z
LAST-MODIFIED:20250623T222102Z
UID:13287-1752854400-1752861600@rosemontmarket.com
SUMMARY:An Evening with Wicked Wines & Wine Traditions
DESCRIPTION:You’re invited to an evening of wine and cheese tasting at our Cape Elizabeth Market on Friday\, July 18th from 4–6pm. We’ll be joined by Wicked Wines and Wine Traditions Ltd. for a joint tasting featuring unique\, thoughtfully sourced bottles and perfectly paired cheeses from our selection. Come explore new flavors and meet the folks who bring these wines to our shelves. Free and open to all!
URL:https://rosemontmarket.com/event/an-evening-with-wicked-wines-wine-traditions
LOCATION:Rosemont Market & Bakery Cape Elizabeth\, 537 Shore Road\, Cape Elizabeth\, ME\, 04107
ATTACH;FMTTYPE=image/jpeg:https://rosemontmarket.com/wp-content/uploads/2025/06/25-RSMT-0116-May-Events_social.jpg
END:VEVENT
BEGIN:VEVENT
DTSTART;TZID=UTC:20250508T160000
DTEND;TZID=UTC:20250508T180000
DTSTAMP:20260418T132253
CREATED:20250424T181125Z
LAST-MODIFIED:20250506T043220Z
UID:13194-1746720000-1746727200@rosemontmarket.com
SUMMARY:Santa Tresa Winemaker Tasting + Italian Cheese
DESCRIPTION:Location: Cape Elizabeth MarketTime: 4:00pm – 6:00pm \nWe’re excited to welcome the winemaker from Santa Tresa\, a historic organic wine estate in Sicily. Stop by our Cape Elizabeth Market to taste a selection of their wines\, complemented by a curated tasting of Italian cheeses provided by Rogers Collection. This event is free and open to all.
URL:https://rosemontmarket.com/event/santa-tresa-winemaker-tasting-italian-cheese
LOCATION:Rosemont Market & Bakery Cape Elizabeth\, 537 Shore Road\, Cape Elizabeth\, ME\, 04107
ATTACH;FMTTYPE=image/jpeg:https://rosemontmarket.com/wp-content/uploads/2025/04/25-RSMT-0116-May-Events_social3-1-scaled.jpg
END:VEVENT
BEGIN:VEVENT
DTSTART;TZID=UTC:20250228T160000
DTEND;TZID=UTC:20250228T180000
DTSTAMP:20260418T132253
CREATED:20250215T010834Z
LAST-MODIFIED:20250215T010834Z
UID:12662-1740758400-1740765600@rosemontmarket.com
SUMMARY:An Evening with Winemaker Marinette Garnier in Cape Elizabeth
DESCRIPTION:Join us at our Cape Elizabeth market for a free tasting with Marinette Garnier from Jaffelin Wines. Traveling from Burgundy\, France\, Marinette is excited to share her winemaking journey and a selection of exceptional wines with our Rosemont community. This event is a perfect opportunity to learn about her craft\, ask questions\, and enjoy a unique tasting experience. Don’t miss the chance to connect over great wine and fascinating stories! \nFriday\, February 28th\n4pm to 6pm\nCape Elizabeth Market \nThis event is free!
URL:https://rosemontmarket.com/event/an-evening-with-winemaker-marinette-garnier-in-cape-elizabeth
LOCATION:Rosemont Market & Bakery Cape Elizabeth\, 537 Shore Road\, Cape Elizabeth\, ME\, 04107
CATEGORIES:Wine Tastings
ATTACH;FMTTYPE=image/png:https://rosemontmarket.com/wp-content/uploads/2025/02/image-4.png
END:VEVENT
BEGIN:VEVENT
DTSTART;TZID=UTC:20250221T160000
DTEND;TZID=UTC:20250221T180000
DTSTAMP:20260418T132253
CREATED:20250128T001813Z
LAST-MODIFIED:20250128T012505Z
UID:12640-1740153600-1740160800@rosemontmarket.com
SUMMARY:An Evening with Winemaker Michele D'Aprix
DESCRIPTION:What: Free wine tasting with Michele D’AprixWhere: Rosemont Cape Elizabeth MarketWhen: Friday\, February 21st\, 4:00 PM – 6:00 PM\nJoin us at Rosemont Cape Elizabeth Market for a special evening of wine tasting with Michele D’Aprix\, the only female American winemaker in Bordeaux\, France!\nMichele has been a cherished friend of Rosemont for over 10 years\, and every visit with her feels more special than the last. Taste her exceptional wines\, hear about her winemaking process\, and enjoy an evening filled with great conversation and even better wine.\nThis is a wonderful opportunity to meet Michele and learn about her journey as a winemaker in one of the world’s most renowned wine regions.\nWe hope to see you there!
URL:https://rosemontmarket.com/event/an-evening-with-winemaker-michele-daprix
LOCATION:Rosemont Market & Bakery Cape Elizabeth\, 537 Shore Road\, Cape Elizabeth\, ME\, 04107
ATTACH;FMTTYPE=image/png:https://rosemontmarket.com/wp-content/uploads/2025/01/Michele-Winemaker-Tasting-OUT.png
END:VEVENT
BEGIN:VEVENT
DTSTART;TZID=UTC:20221104T160000
DTEND;TZID=UTC:20221104T180000
DTSTAMP:20260418T132253
CREATED:20221025T214920Z
LAST-MODIFIED:20221025T215204Z
UID:10521-1667577600-1667584800@rosemontmarket.com
SUMMARY:Freedom's Edge Hard Cider Tasting
DESCRIPTION:Ned Ervin & Andy Kaplan from Freedom’s Edge Cider set out to make a series of well-balanced\, full-bodied delicious hard ciders that are accessible to a far wider audience. They are on a mission to show people that cider can be so rich and satisfying that it’s a first-choice drink\, not just a novelty or an option for those who can’t tolerate beer or wine. According to the cider makers themselves\, “the key to our ciders is “balance.” We use less back sweetening than mass market ciders. Some have a bit more\, some have a bit less\, but our guiding principle is that we use just enough sweetening to balance out the acidity and the tannins\, to create the most enjoyable beverage possible and allow the flavor of the apples to be the star of the show.” \nJoin Andy for a Freedom’s Edge Hard Cider Tasting on Friday November 4th from 4pm to 6pm at our Cape Elizabeth market.  \nStop in\, say hello to Andy\, and see what makes this cidery\, located on the edge of Freedom\, Maine\, so special.
URL:https://rosemontmarket.com/event/freedoms-edge-hard-cider-tasting
LOCATION:Rosemont Market & Bakery Cape Elizabeth\, 537 Shore Road\, Cape Elizabeth\, ME\, 04107
ATTACH;FMTTYPE=image/jpeg:https://rosemontmarket.com/wp-content/uploads/2022/10/freedoms-edge-cider-scaled.jpg
END:VEVENT
BEGIN:VEVENT
DTSTART;TZID=UTC:20221013T160000
DTEND;TZID=UTC:20221013T180000
DTSTAMP:20260418T132253
CREATED:20220928T220632Z
LAST-MODIFIED:20220928T220632Z
UID:10397-1665676800-1665684000@rosemontmarket.com
SUMMARY:Urban Farm Fermentory Kombucha Tasting in Cape Elizabeth
DESCRIPTION:Rosemont Market & Bakery has carried Urban Farm Fermentory Kombucha for quite some time\, but it has been awhile since we’ve had the folks from UFF in our market tasting their delicious local kombucha with our community. We are excited to welcome the UFF crew to our Cape Elizabeth location on October 13th from 4pm to 6pm where they will be sampling customers on their seasonal kombucha lineup available at Rosemont. Come join us!
URL:https://rosemontmarket.com/event/urban-farm-fermentory-kombucha-tasting-in-cape-elizabeth
LOCATION:Rosemont Market & Bakery Cape Elizabeth\, 537 Shore Road\, Cape Elizabeth\, ME\, 04107
ATTACH;FMTTYPE=image/png:https://rosemontmarket.com/wp-content/uploads/2022/09/Flights.png
END:VEVENT
BEGIN:VEVENT
DTSTART;TZID=UTC:20220928T160000
DTEND;TZID=UTC:20220928T180000
DTSTAMP:20260418T132253
CREATED:20220927T215412Z
LAST-MODIFIED:20220927T215412Z
UID:10394-1664380800-1664388000@rosemontmarket.com
SUMMARY:BAP Korean Food Tasting in Cape Elizabeth
DESCRIPTION:Brittany Kim\, chef owner of BAP Korean Food\, will be tasting her delicious entrees with our Cape Elizabeth customers on Wednesday 9/28 from 4pm to 6pm. A joyful selection of BAP entrees are available in Rosemont’s prepared food sections. Just follow the simple instructions on the label to experience the full flavors of authentic Korean food without compromise. \n  \nPictured: Jeyuk Bokkeum (spicy pork) as photographed by Jeremy Weir
URL:https://rosemontmarket.com/event/bap-korean-food-tasting-in-cape-elizabeth
LOCATION:Rosemont Market & Bakery Cape Elizabeth\, 537 Shore Road\, Cape Elizabeth\, ME\, 04107
ATTACH;FMTTYPE=image/jpeg:https://rosemontmarket.com/wp-content/uploads/2022/09/bap-1.jpg
END:VEVENT
BEGIN:VEVENT
DTSTART;TZID=UTC:20220714T160000
DTEND;TZID=UTC:20220714T180000
DTSTAMP:20260418T132253
CREATED:20220709T045802Z
LAST-MODIFIED:20220709T045954Z
UID:10158-1657814400-1657821600@rosemontmarket.com
SUMMARY:Free Wine Tasting with National Distributors
DESCRIPTION:Join Sophia from National Distributors on the porch of our Cape Elizabeth market for a free wine tasting. Sophia will guide us through the full Cantele lineup\, including the summertime rosé we just can’t get enough of. See you there!
URL:https://rosemontmarket.com/event/free-wine-tasting-with-national-distributors
LOCATION:Rosemont Market & Bakery Cape Elizabeth\, 537 Shore Road\, Cape Elizabeth\, ME\, 04107
CATEGORIES:Wine Tastings
END:VEVENT
BEGIN:VEVENT
DTSTART;TZID=UTC:20220707T160000
DTEND;TZID=UTC:20220707T180000
DTSTAMP:20260418T132253
CREATED:20220617T201007Z
LAST-MODIFIED:20220623T203046Z
UID:10042-1657209600-1657216800@rosemontmarket.com
SUMMARY:Free Wine Tasting with Crush Distributors
DESCRIPTION:Found: Your new summertime wine. Join us on the porch of our Cape Elizabeth market on Thursday for a FREE tasting with Crush Distributors. We will be tasting through a new producer to the Rosemont portfolio: Clementine Carter. Winemaker Sonja Magdevski cut her teeth making wine for Emilio Estevez\, and now produces this delicious line of wines on the Casa Dumetz Estate in Santa Barbara\, California. 
URL:https://rosemontmarket.com/event/free-wine-tasting-with-crush-distributors
LOCATION:Rosemont Market & Bakery Cape Elizabeth\, 537 Shore Road\, Cape Elizabeth\, ME\, 04107
CATEGORIES:Wine Tastings
ATTACH;FMTTYPE=image/jpeg:https://rosemontmarket.com/wp-content/uploads/2022/06/IMG_9977-scaled.jpeg
END:VEVENT
BEGIN:VEVENT
DTSTART;TZID=UTC:20220520T080000
DTEND;TZID=UTC:20220520T100000
DTSTAMP:20260418T132253
CREATED:20220502T234147Z
LAST-MODIFIED:20220502T234147Z
UID:9807-1653033600-1653040800@rosemontmarket.com
SUMMARY:Bike Tune-ups on National Bike to Work Day
DESCRIPTION:Bike over to our Cape Elizabeth market on National Bike to Work Day for a FREE bike tune-up with our friends from Bicycle Benefits. The Bike Benefits team will be on our front porch from 8am to 10am and are happy to check over your bike to ensure you’re in good shape for biking your way through Maine’s glorious summer season. Rosemont Market & Bakery will be offering complimentary coffee and pastries to enjoy while you wait for your tune-up.
URL:https://rosemontmarket.com/event/bike-tune-ups-on-national-bike-to-work-day
LOCATION:Rosemont Market & Bakery Cape Elizabeth\, 537 Shore Road\, Cape Elizabeth\, ME\, 04107
END:VEVENT
END:VCALENDAR