BEGIN:VCALENDAR
VERSION:2.0
PRODID:-//Rosemont Market &amp; Bakery - ECPv6.15.20//NONSGML v1.0//EN
CALSCALE:GREGORIAN
METHOD:PUBLISH
X-WR-CALNAME:Rosemont Market &amp; Bakery
X-ORIGINAL-URL:https://rosemontmarket.com
X-WR-CALDESC:Events for Rosemont Market &amp; Bakery
REFRESH-INTERVAL;VALUE=DURATION:PT1H
X-Robots-Tag:noindex
X-PUBLISHED-TTL:PT1H
BEGIN:VTIMEZONE
TZID:UTC
BEGIN:STANDARD
TZOFFSETFROM:+0000
TZOFFSETTO:+0000
TZNAME:UTC
DTSTART:20210101T000000
END:STANDARD
END:VTIMEZONE
BEGIN:VEVENT
DTSTART;TZID=UTC:20250514T163000
DTEND;TZID=UTC:20250514T183000
DTSTAMP:20260418T152559
CREATED:20250507T001154Z
LAST-MODIFIED:20250507T001154Z
UID:13252-1747240200-1747247400@rosemontmarket.com
SUMMARY:French Wine Importer – Leigh Ranucci of Wine Traditions
DESCRIPTION:📍 Yarmouth Market📅 Wednesday\, May 14th | ⏰ 4:30–6:30pm \nWe’re thrilled to welcome Leigh Ranucci\, member of Wine Traditions Ltd.\, to our Yarmouth Market for a special evening of French wine tasting. Leigh has spent decades sourcing authentic\, terroir-driven wines from independent producers across France. This is a unique chance to meet the importer behind many of the beautiful bottles on our shelves. \nStop by anytime between 4:30 and 6:30pm to sample a curated selection of French wines and hear firsthand about the regions\, producers\, and practices that make them so special. Whether you’re a longtime fan of French wines or just curious to learn more\, this event is free and open to all.
URL:https://rosemontmarket.com/event/french-wine-importer-leigh-ranucci-of-wine-traditions
LOCATION:Rosemont Market Yarmouth\, 96 Main Street\, Yarmouth\, ME\, 04096\, United States
ATTACH;FMTTYPE=image/jpeg:https://rosemontmarket.com/wp-content/uploads/2025/05/25-RSMT-0116-May-Events_social6-scaled.jpg
END:VEVENT
BEGIN:VEVENT
DTSTART;TZID=UTC:20220720T160000
DTEND;TZID=UTC:20220720T180000
DTSTAMP:20260418T152559
CREATED:20220713T194502Z
LAST-MODIFIED:20220713T194643Z
UID:10191-1658332800-1658340000@rosemontmarket.com
SUMMARY:Free Wine Tasting with Easterly Wines
DESCRIPTION:Join Nick from Easterly Wine as he tastes through some delicious Oregon wines at our Yarmouth market.
URL:https://rosemontmarket.com/event/free-wine-tasting-with-easterly-wines
LOCATION:Rosemont Market Yarmouth\, 96 Main Street\, Yarmouth\, ME\, 04096\, United States
CATEGORIES:Wine Tastings
END:VEVENT
END:VCALENDAR